BEGIN:VCALENDAR
VERSION:2.0
METHOD:PUBLISH
X-WR-CALNAME:wwuh.org |  May 28 2014- May 28 2014
PRODID:-//strange bird labs//Drupal iCal API//EN
BEGIN:VEVENT
DTSTAMP;VALUE=DATE-TIME:20260426T011844Z
DTSTART;VALUE=DATE-TIME:20140527T080000Z
DTEND;VALUE=DATE-TIME:20140528T170000Z
UID:http://wwuh.org/00985-new-world-notes-disabilities
URL;VALUE=URI:http://wwuh.org/00985-new-world-notes-disabilities
SUMMARY:New World Notes - Disabilities
DESCRIPTION:<div>
 	&nbsp\;</div>
 <div>
 <p>This week on&nbsp\;<a href=\\"http\://newworldnotes.blogspot.com/\\" target=\\"_blank\\">New World Notes</a>\: radio program #325\, May 27\, 2014\, from 12\:00 to 12\:30 p.m. (and on Wednesday from 8\:30 to 9\:00 p.m.)\, host Kenneth Dowst once again sets out to &quot\;compare great things with small.&quot\;</p>
 </div>
END:VEVENT
END:VCALENDAR
